Package: rqt Version: 1.29.0 Command: /Library/Frameworks/R.framework/Resources/bin/R CMD check --install=check:rqt.install-out.txt --library=/Library/Frameworks/R.framework/Resources/library --no-vignettes --timings rqt_1.29.0.tar.gz StartedAt: 2024-03-02 09:48:16 -0500 (Sat, 02 Mar 2024) EndedAt: 2024-03-02 09:55:23 -0500 (Sat, 02 Mar 2024) EllapsedTime: 426.6 seconds RetCode: 0 Status: OK CheckDir: rqt.Rcheck Warnings: 0