Package: rqt Version: 1.29.0 Command: rm -rf rqt.buildbin-libdir && mkdir rqt.buildbin-libdir && /Users/biocbuild/BBS/utils/build-universal.sh rqt_1.29.0.tar.gz /Library/Frameworks/R.framework/Resources/bin/R rqt.buildbin-libdir StartedAt: 2024-03-02 14:19:38 -0500 (Sat, 02 Mar 2024) EndedAt: 2024-03-02 14:20:45 -0500 (Sat, 02 Mar 2024) EllapsedTime: 67.7 seconds RetCode: 0 Status: OK PackageFile: rqt_1.29.0.tgz PackageFileSize: 894.1 KiB