Package: rqt Version: 1.29.0 Command: /Library/Frameworks/R.framework/Resources/bin/R CMD check --install=check:rqt.install-out.txt --library=/Library/Frameworks/R.framework/Resources/library --no-vignettes --timings rqt_1.29.0.tar.gz StartedAt: 2024-04-05 23:22:54 -0400 (Fri, 05 Apr 2024) EndedAt: 2024-04-05 23:26:33 -0400 (Fri, 05 Apr 2024) EllapsedTime: 219.5 seconds RetCode: 0 Status: OK CheckDir: rqt.Rcheck Warnings: 0