Package: rqt Version: 1.30.0 Command: /Library/Frameworks/R.framework/Resources/bin/R CMD build --keep-empty-dirs --no-resave-data rqt StartedAt: 2024-06-09 17:59:26 -0400 (Sun, 09 Jun 2024) EndedAt: 2024-06-09 17:59:56 -0400 (Sun, 09 Jun 2024) EllapsedTime: 30.5 seconds RetCode: 1 Status: ERROR PackageFile: None PackageFileSize: NA