Package: rqt Version: 1.29.0 Command: rm -rf rqt.buildbin-libdir && mkdir rqt.buildbin-libdir && /Users/biocbuild/BBS/utils/build-universal.sh rqt_1.29.0.tar.gz /Library/Frameworks/R.framework/Resources/bin/R rqt.buildbin-libdir StartedAt: 2024-04-06 01:24:16 -0400 (Sat, 06 Apr 2024) EndedAt: 2024-04-06 01:25:00 -0400 (Sat, 06 Apr 2024) EllapsedTime: 44.0 seconds RetCode: 0 Status: OK PackageFile: rqt_1.29.0.tgz PackageFileSize: 894.7 KiB