Package: rqt Version: 1.30.0 Command: /home/biocbuild/R/R-beta-2024-04-15_r86425/bin/R CMD INSTALL rqt StartedAt: 2024-05-08 20:58:35 -0000 (Wed, 08 May 2024) EndedAt: 2024-05-08 20:59:11 -0000 (Wed, 08 May 2024) EllapsedTime: 36.6 seconds RetCode: 0 Status: OK