Package: rqt Version: 1.30.0 Command: /Library/Frameworks/R.framework/Resources/bin/R CMD build --keep-empty-dirs --no-resave-data rqt StartedAt: 2024-06-10 03:47:07 -0400 (Mon, 10 Jun 2024) EndedAt: 2024-06-10 03:47:50 -0400 (Mon, 10 Jun 2024) EllapsedTime: 43.2 seconds RetCode: 1 Status: ERROR PackageFile: None PackageFileSize: NA