Package: rpx Version: 2.12.0 Command: chmod a+r rpx -R && E:\biocbuild\bbs-3.19-bioc\R\bin\R.exe CMD build --keep-empty-dirs --no-resave-data rpx StartedAt: 2024-10-16 21:37:40 -0400 (Wed, 16 Oct 2024) EndedAt: 2024-10-16 21:38:04 -0400 (Wed, 16 Oct 2024) EllapsedTime: 23.4 seconds RetCode: 0 Status: OK PackageFile: rpx_2.12.0.tar.gz PackageFileSize: 316.3 KiB