Package: rpx Version: 2.12.0 Command: /home/biocbuild/bbs-3.19-bioc/R/bin/R CMD build --keep-empty-dirs --no-resave-data rpx StartedAt: 2024-10-16 20:32:53 -0400 (Wed, 16 Oct 2024) EndedAt: 2024-10-16 20:33:07 -0400 (Wed, 16 Oct 2024) EllapsedTime: 14.0 seconds RetCode: 0 Status: OK PackageFile: rpx_2.12.0.tar.gz PackageFileSize: 316.2 KiB