Package: rpx Version: 2.12.0 Command: /Library/Frameworks/R.framework/Resources/bin/R CMD INSTALL rpx StartedAt: 2024-10-16 16:14:31 -0400 (Wed, 16 Oct 2024) EndedAt: 2024-10-16 16:14:38 -0400 (Wed, 16 Oct 2024) EllapsedTime: 7.3 seconds RetCode: 0 Status: OK