Package: rprimer Version: 1.8.0 Command: E:\biocbuild\bbs-3.19-bioc\R\bin\R.exe CMD INSTALL rprimer StartedAt: 2024-10-16 16:50:17 -0400 (Wed, 16 Oct 2024) EndedAt: 2024-10-16 16:50:55 -0400 (Wed, 16 Oct 2024) EllapsedTime: 38.8 seconds RetCode: 0 Status: OK