Package: rprimer Version: 1.8.0 Command: /home/biocbuild/bbs-3.19-bioc/R/bin/R CMD INSTALL rprimer StartedAt: 2024-10-16 16:21:32 -0400 (Wed, 16 Oct 2024) EndedAt: 2024-10-16 16:21:49 -0400 (Wed, 16 Oct 2024) EllapsedTime: 17.1 seconds RetCode: 0 Status: OK