Package: rprimer Version: 1.8.0 Command: rm -rf rprimer.buildbin-libdir && mkdir rprimer.buildbin-libdir && /Users/biocbuild/BBS/utils/build-universal.sh rprimer_1.8.0.tar.gz /Library/Frameworks/R.framework/Resources/bin/R rprimer.buildbin-libdir StartedAt: 2024-10-17 17:03:09 -0400 (Thu, 17 Oct 2024) EndedAt: 2024-10-17 17:04:02 -0400 (Thu, 17 Oct 2024) EllapsedTime: 53.3 seconds RetCode: 0 Status: OK PackageFile: rprimer_1.8.0.tgz PackageFileSize: 3.593 MiB