Package: rprimer Version: 1.8.0 Command: /Library/Frameworks/R.framework/Resources/bin/R CMD INSTALL rprimer StartedAt: 2024-06-09 15:21:48 -0400 (Sun, 09 Jun 2024) EndedAt: 2024-06-09 15:22:12 -0400 (Sun, 09 Jun 2024) EllapsedTime: 24.3 seconds RetCode: 0 Status: OK