Package: rprimer Version: 1.8.0 Command: /home/biocbuild/R/R-beta-2024-04-15_r86425/bin/R CMD build --keep-empty-dirs --no-resave-data rprimer StartedAt: 2024-05-09 03:10:55 -0000 (Thu, 09 May 2024) EndedAt: 2024-05-09 03:12:25 -0000 (Thu, 09 May 2024) EllapsedTime: 90.1 seconds RetCode: 0 Status: OK PackageFile: rprimer_1.8.0.tar.gz PackageFileSize: 1.812 MiB