Package: rprimer Version: 1.8.0 Command: /Library/Frameworks/R.framework/Resources/bin/R CMD check --install=check:rprimer.install-out.txt --library=/Library/Frameworks/R.framework/Resources/library --no-vignettes --timings rprimer_1.8.0.tar.gz StartedAt: 2024-06-11 03:42:14 -0400 (Tue, 11 Jun 2024) EndedAt: 2024-06-11 03:46:46 -0400 (Tue, 11 Jun 2024) EllapsedTime: 272.3 seconds RetCode: 0 Status: OK CheckDir: rprimer.Rcheck Warnings: 0