Package: rprimer Version: 1.8.0 Command: /Library/Frameworks/R.framework/Resources/bin/R CMD build --keep-empty-dirs --no-resave-data rprimer StartedAt: 2024-06-10 03:46:52 -0400 (Mon, 10 Jun 2024) EndedAt: 2024-06-10 03:48:19 -0400 (Mon, 10 Jun 2024) EllapsedTime: 87.1 seconds RetCode: 0 Status: OK PackageFile: rprimer_1.8.0.tar.gz PackageFileSize: 3.269 MiB