Package: rprimer Version: 1.8.0 Command: rm -rf rprimer.buildbin-libdir && mkdir rprimer.buildbin-libdir && /Users/biocbuild/BBS/utils/build-universal.sh rprimer_1.8.0.tar.gz /Library/Frameworks/R.framework/Resources/bin/R rprimer.buildbin-libdir StartedAt: 2024-06-11 12:57:09 -0400 (Tue, 11 Jun 2024) EndedAt: 2024-06-11 12:57:46 -0400 (Tue, 11 Jun 2024) EllapsedTime: 36.6 seconds RetCode: 0 Status: OK PackageFile: rprimer_1.8.0.tgz PackageFileSize: 3.654 MiB