Package: ropls Version: 1.36.0 Command: chmod a+r ropls -R && F:\biocbuild\bbs-3.19-bioc\R\bin\R.exe CMD build --keep-empty-dirs --no-resave-data ropls StartedAt: 2024-06-26 21:31:03 -0400 (Wed, 26 Jun 2024) EndedAt: 2024-06-26 21:32:18 -0400 (Wed, 26 Jun 2024) EllapsedTime: 75.1 seconds RetCode: 0 Status: OK PackageFile: ropls_1.36.0.tar.gz PackageFileSize: 2.973 MiB