Package: ropls Version: 1.36.0 Command: /home/biocbuild/bbs-3.19-bioc/R/bin/R CMD check --install=check:ropls.install-out.txt --library=/home/biocbuild/bbs-3.19-bioc/R/site-library --timings ropls_1.36.0.tar.gz StartedAt: 2024-10-17 04:32:05 -0400 (Thu, 17 Oct 2024) EndedAt: 2024-10-17 04:36:10 -0400 (Thu, 17 Oct 2024) EllapsedTime: 245.6 seconds RetCode: 0 Status: OK CheckDir: ropls.Rcheck Warnings: 0