Package: ropls Version: 1.36.0 Command: /Library/Frameworks/R.framework/Resources/bin/R CMD check --install=check:ropls.install-out.txt --library=/Library/Frameworks/R.framework/Resources/library --no-vignettes --timings ropls_1.36.0.tar.gz StartedAt: 2024-10-17 12:10:03 -0400 (Thu, 17 Oct 2024) EndedAt: 2024-10-17 12:19:36 -0400 (Thu, 17 Oct 2024) EllapsedTime: 573.8 seconds RetCode: 0 Status: OK CheckDir: ropls.Rcheck Warnings: 0