Package: ropls Version: 1.36.0 Command: /home/biocbuild/R/R-beta-2024-04-15_r86425/bin/R CMD build --keep-empty-dirs --no-resave-data ropls StartedAt: 2024-05-09 03:10:04 -0000 (Thu, 09 May 2024) EndedAt: 2024-05-09 03:11:38 -0000 (Thu, 09 May 2024) EllapsedTime: 94.1 seconds RetCode: 0 Status: OK PackageFile: ropls_1.36.0.tar.gz PackageFileSize: 2.893 MiB