Package: ropls Version: 1.36.0 Command: /Library/Frameworks/R.framework/Resources/bin/R CMD check --install=check:ropls.install-out.txt --library=/Library/Frameworks/R.framework/Resources/library --no-vignettes --timings ropls_1.36.0.tar.gz StartedAt: 2024-06-11 03:40:17 -0400 (Tue, 11 Jun 2024) EndedAt: 2024-06-11 04:20:17 -0400 (Tue, 11 Jun 2024) EllapsedTime: 2400.1 seconds RetCode: None Status: TIMEOUT CheckDir: ropls.Rcheck Warnings: NA