Package: ropls Version: 1.36.0 Command: /Library/Frameworks/R.framework/Resources/bin/R CMD INSTALL ropls StartedAt: 2024-10-16 18:34:55 -0400 (Wed, 16 Oct 2024) EndedAt: 2024-10-16 18:35:29 -0400 (Wed, 16 Oct 2024) EllapsedTime: 33.9 seconds RetCode: 0 Status: OK