Package: ropls Version: 1.36.0 Command: /Library/Frameworks/R.framework/Resources/bin/R CMD check --install=check:ropls.install-out.txt --library=/Library/Frameworks/R.framework/Resources/library --no-vignettes --timings ropls_1.36.0.tar.gz StartedAt: 2024-10-18 10:11:09 -0400 (Fri, 18 Oct 2024) EndedAt: 2024-10-18 10:51:09 -0400 (Fri, 18 Oct 2024) EllapsedTime: 2400.9 seconds RetCode: None Status: TIMEOUT CheckDir: ropls.Rcheck Warnings: NA