Package: ropls Version: 1.36.0 Command: rm -rf ropls.buildbin-libdir && mkdir ropls.buildbin-libdir && /Users/biocbuild/BBS/utils/build-universal.sh ropls_1.36.0.tar.gz /Library/Frameworks/R.framework/Resources/bin/R ropls.buildbin-libdir StartedAt: 2024-10-18 20:25:59 -0400 (Fri, 18 Oct 2024) EndedAt: 2024-10-18 20:26:41 -0400 (Fri, 18 Oct 2024) EllapsedTime: 42.0 seconds RetCode: 0 Status: OK PackageFile: ropls_1.36.0.tgz PackageFileSize: 4.986 MiB