Package: rols Version: 3.0.0 Command: rm -rf rols.buildbin-libdir && mkdir rols.buildbin-libdir && E:\biocbuild\bbs-3.19-bioc\R\bin\R.exe CMD INSTALL --build --library=rols.buildbin-libdir rols_3.0.0.tar.gz StartedAt: 2024-10-17 08:31:33 -0400 (Thu, 17 Oct 2024) EndedAt: 2024-10-17 08:32:02 -0400 (Thu, 17 Oct 2024) EllapsedTime: 28.4 seconds RetCode: 0 Status: OK PackageFile: rols_3.0.0.zip PackageFileSize: 655.8 KiB