Package: rols Version: 3.0.0 Command: F:\biocbuild\bbs-3.19-bioc\R\bin\R.exe CMD INSTALL rols StartedAt: 2024-06-26 15:46:14 -0400 (Wed, 26 Jun 2024) EndedAt: 2024-06-26 15:46:31 -0400 (Wed, 26 Jun 2024) EllapsedTime: 17.2 seconds RetCode: 0 Status: OK