Package: rols Version: 3.0.0 Command: F:\biocbuild\bbs-3.19-bioc\R\bin\R.exe CMD check --no-multiarch --install=check:rols.install-out.txt --library=F:\biocbuild\bbs-3.19-bioc\R\library --no-vignettes --timings rols_3.0.0.tar.gz StartedAt: 2024-06-27 05:35:15 -0400 (Thu, 27 Jun 2024) EndedAt: 2024-06-27 05:37:36 -0400 (Thu, 27 Jun 2024) EllapsedTime: 141.3 seconds RetCode: 0 Status: OK CheckDir: rols.Rcheck Warnings: 0