Package: rols Version: 3.0.0 Command: chmod a+r rols -R && F:\biocbuild\bbs-3.19-bioc\R\bin\R.exe CMD build --keep-empty-dirs --no-resave-data rols StartedAt: 2024-06-26 21:30:53 -0400 (Wed, 26 Jun 2024) EndedAt: 2024-06-26 21:31:31 -0400 (Wed, 26 Jun 2024) EllapsedTime: 38.3 seconds RetCode: 0 Status: OK PackageFile: rols_3.0.0.tar.gz PackageFileSize: 390.4 KiB