Package: rols Version: 3.0.0 Command: rm -rf rols.buildbin-libdir && mkdir rols.buildbin-libdir && F:\biocbuild\bbs-3.19-bioc\R\bin\R.exe CMD INSTALL --build --library=rols.buildbin-libdir rols_3.0.0.tar.gz StartedAt: 2024-06-27 08:49:26 -0400 (Thu, 27 Jun 2024) EndedAt: 2024-06-27 08:49:45 -0400 (Thu, 27 Jun 2024) EllapsedTime: 19.0 seconds RetCode: 0 Status: OK PackageFile: rols_3.0.0.zip PackageFileSize: 655.4 KiB