Package: rols Version: 3.0.0 Command: /home/biocbuild/R/R-beta-2024-04-15_r86425/bin/R CMD check --install=check:rols.install-out.txt --library=/home/biocbuild/R/R-beta-2024-04-15_r86425/site-library --no-vignettes --timings rols_3.0.0.tar.gz StartedAt: 2024-05-09 11:22:44 -0000 (Thu, 09 May 2024) EndedAt: 2024-05-09 11:26:44 -0000 (Thu, 09 May 2024) EllapsedTime: 239.4 seconds RetCode: 0 Status: OK CheckDir: rols.Rcheck Warnings: 0