Package: rols Version: 3.0.0 Command: /Library/Frameworks/R.framework/Resources/bin/R CMD check --install=check:rols.install-out.txt --library=/Library/Frameworks/R.framework/Resources/library --no-vignettes --timings rols_3.0.0.tar.gz StartedAt: 2024-06-11 03:39:13 -0400 (Tue, 11 Jun 2024) EndedAt: 2024-06-11 03:42:14 -0400 (Tue, 11 Jun 2024) EllapsedTime: 180.9 seconds RetCode: 0 Status: OK CheckDir: rols.Rcheck Warnings: 0