Package: rols Version: 3.0.0 Command: rm -rf rols.buildbin-libdir && mkdir rols.buildbin-libdir && /Users/biocbuild/BBS/utils/build-universal.sh rols_3.0.0.tar.gz /Library/Frameworks/R.framework/Resources/bin/R rols.buildbin-libdir StartedAt: 2024-06-11 12:56:35 -0400 (Tue, 11 Jun 2024) EndedAt: 2024-06-11 12:56:48 -0400 (Tue, 11 Jun 2024) EllapsedTime: 13.2 seconds RetCode: 0 Status: OK PackageFile: rols_3.0.0.tgz PackageFileSize: 648.1 KiB