Package: rols Version: 3.0.0 Command: /Library/Frameworks/R.framework/Resources/bin/R CMD check --install=check:rols.install-out.txt --library=/Library/Frameworks/R.framework/Resources/library --no-vignettes --timings rols_3.0.0.tar.gz StartedAt: 2024-10-18 10:08:13 -0400 (Fri, 18 Oct 2024) EndedAt: 2024-10-18 10:09:40 -0400 (Fri, 18 Oct 2024) EllapsedTime: 86.7 seconds RetCode: 0 Status: OK CheckDir: rols.Rcheck Warnings: 0