Package: rols Version: 3.0.0 Command: /Library/Frameworks/R.framework/Resources/bin/R CMD build --keep-empty-dirs --no-resave-data rols StartedAt: 2024-10-17 07:59:24 -0400 (Thu, 17 Oct 2024) EndedAt: 2024-10-17 07:59:48 -0400 (Thu, 17 Oct 2024) EllapsedTime: 24.6 seconds RetCode: 0 Status: OK PackageFile: rols_3.0.0.tar.gz PackageFileSize: 390 KiB