Package: roastgsa Version: 1.2.0 Command: chmod a+r roastgsa -R && E:\biocbuild\bbs-3.19-bioc\R\bin\R.exe CMD build --keep-empty-dirs --no-resave-data roastgsa StartedAt: 2024-10-16 21:35:45 -0400 (Wed, 16 Oct 2024) EndedAt: 2024-10-16 21:37:34 -0400 (Wed, 16 Oct 2024) EllapsedTime: 108.4 seconds RetCode: 0 Status: OK PackageFile: roastgsa_1.2.0.tar.gz PackageFileSize: 1.437 MiB