Package: roastgsa Version: 1.2.0 Command: chmod a+r roastgsa -R && F:\biocbuild\bbs-3.19-bioc\R\bin\R.exe CMD build --keep-empty-dirs --no-resave-data roastgsa StartedAt: 2024-06-26 21:30:06 -0400 (Wed, 26 Jun 2024) EndedAt: 2024-06-26 21:33:04 -0400 (Wed, 26 Jun 2024) EllapsedTime: 177.7 seconds RetCode: 0 Status: OK PackageFile: roastgsa_1.2.0.tar.gz PackageFileSize: 1.475 MiB