Package: roastgsa Version: 1.2.0 Command: rm -rf roastgsa.buildbin-libdir && mkdir roastgsa.buildbin-libdir && F:\biocbuild\bbs-3.19-bioc\R\bin\R.exe CMD INSTALL --build --library=roastgsa.buildbin-libdir roastgsa_1.2.0.tar.gz StartedAt: 2024-06-27 08:49:15 -0400 (Thu, 27 Jun 2024) EndedAt: 2024-06-27 08:49:37 -0400 (Thu, 27 Jun 2024) EllapsedTime: 21.7 seconds RetCode: 0 Status: OK PackageFile: roastgsa_1.2.0.zip PackageFileSize: 1.608 MiB