Package: roastgsa Version: 1.2.0 Command: rm -rf roastgsa.buildbin-libdir && mkdir roastgsa.buildbin-libdir && /Users/biocbuild/BBS/utils/build-universal.sh roastgsa_1.2.0.tar.gz /Library/Frameworks/R.framework/Resources/bin/R roastgsa.buildbin-libdir StartedAt: 2024-10-17 17:02:37 -0400 (Thu, 17 Oct 2024) EndedAt: 2024-10-17 17:02:59 -0400 (Thu, 17 Oct 2024) EllapsedTime: 21.5 seconds RetCode: 0 Status: OK PackageFile: roastgsa_1.2.0.tgz PackageFileSize: 2.226 MiB