Package: roastgsa Version: 1.2.0 Command: /Library/Frameworks/R.framework/Resources/bin/R CMD check --install=check:roastgsa.install-out.txt --library=/Library/Frameworks/R.framework/Resources/library --no-vignettes --timings roastgsa_1.2.0.tar.gz StartedAt: 2024-06-09 22:41:17 -0400 (Sun, 09 Jun 2024) EndedAt: 2024-06-09 22:42:29 -0400 (Sun, 09 Jun 2024) EllapsedTime: 72.2 seconds RetCode: 0 Status: OK CheckDir: roastgsa.Rcheck Warnings: 0