Package: roastgsa Version: 1.2.0 Command: /Library/Frameworks/R.framework/Resources/bin/R CMD check --install=check:roastgsa.install-out.txt --library=/Library/Frameworks/R.framework/Resources/library --no-vignettes --timings roastgsa_1.2.0.tar.gz StartedAt: 2024-06-11 03:34:23 -0400 (Tue, 11 Jun 2024) EndedAt: 2024-06-11 03:36:18 -0400 (Tue, 11 Jun 2024) EllapsedTime: 114.7 seconds RetCode: 0 Status: OK CheckDir: roastgsa.Rcheck Warnings: 0