Package: roastgsa Version: 1.2.0 Command: /Library/Frameworks/R.framework/Resources/bin/R CMD INSTALL roastgsa StartedAt: 2024-10-16 16:02:38 -0400 (Wed, 16 Oct 2024) EndedAt: 2024-10-16 16:02:46 -0400 (Wed, 16 Oct 2024) EllapsedTime: 8.2 seconds RetCode: 0 Status: OK