Package: roastgsa Version: 1.2.0 Command: rm -rf roastgsa.buildbin-libdir && mkdir roastgsa.buildbin-libdir && /Users/biocbuild/BBS/utils/build-universal.sh roastgsa_1.2.0.tar.gz /Library/Frameworks/R.framework/Resources/bin/R roastgsa.buildbin-libdir StartedAt: 2024-10-18 20:25:16 -0400 (Fri, 18 Oct 2024) EndedAt: 2024-10-18 20:25:27 -0400 (Fri, 18 Oct 2024) EllapsedTime: 11.5 seconds RetCode: 0 Status: OK PackageFile: roastgsa_1.2.0.tgz PackageFileSize: 2.187 MiB