Package: roar Version: 1.40.0 Command: E:\biocbuild\bbs-3.19-bioc\R\bin\R.exe CMD check --no-multiarch --install=check:roar.install-out.txt --library=E:\biocbuild\bbs-3.19-bioc\R\library --no-vignettes --timings roar_1.40.0.tar.gz StartedAt: 2024-10-17 05:11:40 -0400 (Thu, 17 Oct 2024) EndedAt: 2024-10-17 05:16:07 -0400 (Thu, 17 Oct 2024) EllapsedTime: 266.5 seconds RetCode: 0 Status: OK CheckDir: roar.Rcheck Warnings: 0