Package: roar Version: 1.40.0 Command: chmod a+r roar -R && E:\biocbuild\bbs-3.19-bioc\R\bin\R.exe CMD build --keep-empty-dirs --no-resave-data roar StartedAt: 2024-10-16 21:35:35 -0400 (Wed, 16 Oct 2024) EndedAt: 2024-10-16 21:37:59 -0400 (Wed, 16 Oct 2024) EllapsedTime: 144.4 seconds RetCode: 0 Status: OK PackageFile: roar_1.40.0.tar.gz PackageFileSize: 720.5 KiB