Package: roar Version: 1.40.0 Command: /home/biocbuild/R/R-beta-2024-04-15_r86425/bin/R CMD INSTALL roar StartedAt: 2024-05-08 20:22:21 -0000 (Wed, 08 May 2024) EndedAt: 2024-05-08 20:23:06 -0000 (Wed, 08 May 2024) EllapsedTime: 45.2 seconds RetCode: 0 Status: OK