Package: roar Version: 1.40.0 Command: /Library/Frameworks/R.framework/Resources/bin/R CMD INSTALL roar StartedAt: 2024-10-16 16:28:59 -0400 (Wed, 16 Oct 2024) EndedAt: 2024-10-16 16:29:37 -0400 (Wed, 16 Oct 2024) EllapsedTime: 37.9 seconds RetCode: 0 Status: OK