Package: rnaseqcomp Version: 1.34.0 Command: /home/biocbuild/bbs-3.19-bioc/R/bin/R CMD build --keep-empty-dirs --no-resave-data rnaseqcomp StartedAt: 2024-10-16 20:30:29 -0400 (Wed, 16 Oct 2024) EndedAt: 2024-10-16 20:30:46 -0400 (Wed, 16 Oct 2024) EllapsedTime: 17.1 seconds RetCode: 0 Status: OK PackageFile: rnaseqcomp_1.34.0.tar.gz PackageFileSize: 1.484 MiB