Package: rnaseqcomp Version: 1.34.0 Command: /Library/Frameworks/R.framework/Resources/bin/R CMD check --install=check:rnaseqcomp.install-out.txt --library=/Library/Frameworks/R.framework/Resources/library --no-vignettes --timings rnaseqcomp_1.34.0.tar.gz StartedAt: 2024-10-17 12:04:29 -0400 (Thu, 17 Oct 2024) EndedAt: 2024-10-17 12:05:48 -0400 (Thu, 17 Oct 2024) EllapsedTime: 79.5 seconds RetCode: 0 Status: OK CheckDir: rnaseqcomp.Rcheck Warnings: 0